BEGIN:VCALENDAR
VERSION:2.0
PRODID:-//Shotto
CALSCALE:GREGORIAN
METHOD:PUBLISH
X-WR-CALNAME:Shotto
X-ORIGINAL-URL:http://shotto.co.za/challenge/it-challenge-coming-soon-9-2/
X-WR-CALDESC:Sport challenge Coming Soon!
BEGIN:VEVENT
DTSTART:
DTEND:
SUMMARY:Sport challenge Coming Soon!
DESCRIPTION:Sport Challenge
LOCATION:
END:VEVENT
END:VCALENDAR
